BEGIN:VCALENDAR
VERSION:2.0
PRODID:-//wp-events-plugin.com//7.2.3.1//EN
TZID:Europe/Vienna
X-WR-TIMEZONE:Europe/Vienna
BEGIN:VEVENT
UID:13@schlosskonzerte-eckartsau.at
DTSTART;TZID=Europe/Berlin:20230521T110000
DTEND;TZID=Europe/Berlin:20230521T110000
DTSTAMP:20221216T090503Z
URL:https://schlosskonzerte-eckartsau.at/events/fuerst-liechtensteins-laby
 rinthgarten/
SUMMARY:Fürst Liechtensteins Labyrinthgarten
DESCRIPTION:Der Lustgarten ist nach französischem Geschmack mit Labyrinthe
 n\, Säulengängen und allegorischen Statuen angelegt...
ATTACH;FMTTYPE=image/jpeg:https://schlosskonzerte-eckartsau.at/wp/wp-conte
 nt/uploads/2022/12/bild-josef-zak-4.Konz_-scaled.jpg
LOCATION:Schloss Eckartsau\, Schloß 1\, Eckartsau\, 2305\, Österreich
GEO:48.140524;16.793592
X-APPLE-STRUCTURED-LOCATION;VALUE=URI;X-ADDRESS=Schloß 1\, Eckartsau\, 230
 5\, Österreich;X-APPLE-RADIUS=100;X-TITLE=Schloss Eckartsau:geo:48.140524
 ,16.793592
END:VEVENT
BEGIN:VTIMEZONE
TZID:Europe/Berlin
X-LIC-LOCATION:Europe/Berlin
BEGIN:DAYLIGHT
DTSTART:20230326T030000
TZOFFSETFROM:+0100
TZOFFSETTO:+0200
TZNAME:CEST
END:DAYLIGHT
END:VTIMEZONE
END:VCALENDARBEGIN:VCALENDAR
VERSION:2.0
PRODID:-//wp-events-plugin.com//7.2.3.1//EN
TZID:Europe/Vienna
X-WR-TIMEZONE:Europe/Vienna
BEGIN:VEVENT
UID:13@schlosskonzerte-eckartsau.at
DTSTART;TZID=Europe/Berlin:20230521T110000
DTEND;TZID=Europe/Berlin:20230521T110000
DTSTAMP:20221216T090503Z
URL:https://schlosskonzerte-eckartsau.at/events/fuerst-liechtensteins-laby
 rinthgarten/
SUMMARY:Fürst Liechtensteins Labyrinthgarten
DESCRIPTION:Der Lustgarten ist nach französischem Geschmack mit Labyrinthe
 n\, Säulengängen und allegorischen Statuen angelegt...
ATTACH;FMTTYPE=image/jpeg:https://schlosskonzerte-eckartsau.at/wp/wp-conte
 nt/uploads/2022/12/bild-josef-zak-4.Konz_-scaled.jpg
LOCATION:Schloss Eckartsau\, Schloß 1\, Eckartsau\, 2305\, Österreich
GEO:48.140524;16.793592
X-APPLE-STRUCTURED-LOCATION;VALUE=URI;X-ADDRESS=Schloß 1\, Eckartsau\, 230
 5\, Österreich;X-APPLE-RADIUS=100;X-TITLE=Schloss Eckartsau:geo:48.140524
 ,16.793592
END:VEVENT
BEGIN:VTIMEZONE
TZID:Europe/Berlin
X-LIC-LOCATION:Europe/Berlin
BEGIN:DAYLIGHT
DTSTART:20230326T030000
TZOFFSETFROM:+0100
TZOFFSETTO:+0200
TZNAME:CEST
END:DAYLIGHT
END:VTIMEZONE
END:VCALENDAR